BEGIN:VCALENDAR
VERSION:2.0
PRODID:-//Marije Janssen - ECPv6.15.14//NONSGML v1.0//EN
CALSCALE:GREGORIAN
METHOD:PUBLISH
X-ORIGINAL-URL:https://www.marijejanssen.nl
X-WR-CALDESC:Evenementen voor Marije Janssen
REFRESH-INTERVAL;VALUE=DURATION:PT1H
X-Robots-Tag:noindex
X-PUBLISHED-TTL:PT1H
BEGIN:VTIMEZONE
TZID:UTC
BEGIN:STANDARD
TZOFFSETFROM:+0000
TZOFFSETTO:+0000
TZNAME:UTC
DTSTART:20160101T000000
END:STANDARD
END:VTIMEZONE
BEGIN:VEVENT
DTSTART;TZID=UTC:20181220T190000
DTEND;TZID=UTC:20181220T210000
DTSTAMP:20260425T212549
CREATED:20180615T095057Z
LAST-MODIFIED:20181204T094223Z
UID:1084-1545332400-1545339600@www.marijejanssen.nl
SUMMARY:Inloopspreekuur Seksualiteit bij Savannah Bay
DESCRIPTION:Raak je in de knoop met wat je nou moet doen op het gebied van consent\, schaam je je voor bepaalde aspecten van je seksualiteit en heb je behoefte aan een extern luisterend oor of ben je gewoon op zoek naar toffe queer of feministische porno en je weet niet waar je die kunt vinden? Ik sta je met veel plezier te woord tijdens mijn inloopspreekuur. Je bent meer dan welkom voor een korte coachingsessie\, advies op maat of een kennismaking. Mijn aanpak is open\, nieuwsgierig\, positief en met verstand van zaken. \nElke vierde donderdag van de maand zit ik tijdens het inloopspreekuur seksualiteit in Savannah Bay klaar om al je vragen omtrent seksualiteit te beantwoorden. \nDetails:\n\nDe inloopspreekuren zijn gratis en discreet (de gesprekken worden in een aparte ruimte gevoerd).\nElke 4e donderdag van de maand.\nVan 19u tot 21u.\nEen gesprek duurt maximaal 30 minuten.\nBoekhandel Savannah Bay\, Telingstraat 13 in Utrecht.
URL:https://www.marijejanssen.nl/event/inloopspreekuur-seksualiteit-bij-savannah-bay-4/
LOCATION:Boekhandel Savannah Bay\, Telingstraat 13\, Utrecht\, Netherlands
CATEGORIES:Spreekuur
ATTACH;FMTTYPE=image/jpeg:https://www.marijejanssen.nl/wp-content/uploads/2016/11/Marije-Jannsen_Vijgen_eps.jpg
END:VEVENT
BEGIN:VEVENT
DTSTART;TZID=UTC:20181122T190000
DTEND;TZID=UTC:20181122T210000
DTSTAMP:20260425T212549
CREATED:20180615T094840Z
LAST-MODIFIED:20180615T094840Z
UID:1082-1542913200-1542920400@www.marijejanssen.nl
SUMMARY:Inloopspreekuur Seksualiteit bij Savannah Bay
DESCRIPTION:Raak je in de knoop met wat je nou moet doen op het gebied van consent\, schaam je je voor bepaalde aspecten van je seksualiteit en heb je behoefte aan een extern luisterend oor of ben je gewoon op zoek naar toffe queer of feministische porno en je weet niet waar je die kunt vinden? Ik sta je met veel plezier te woord tijdens mijn inloopspreekuur. Je bent meer dan welkom voor een korte coachingsessie\, advies op maat of een kennismaking. Mijn aanpak is open\, nieuwsgierig\, positief en met verstand van zaken. \nElke vierde donderdag van de maand zit ik tijdens het inloopspreekuur seksualiteit in Savannah Bay klaar om al je vragen omtrent seksualiteit te beantwoorden. \nDetails:\n\nDe inloopspreekuren zijn gratis en discreet (de gesprekken worden in een aparte ruimte gevoerd).\nElke 4e donderdag van de maand.\nVan 19u tot 21u.\nEen gesprek duurt maximaal 30 minuten.\nBoekhandel Savannah Bay\, Telingstraat 13 in Utrecht.
URL:https://www.marijejanssen.nl/event/inloopspreekuur-seksualiteit-bij-savannah-bay-3/
LOCATION:Boekhandel Savannah Bay\, Telingstraat 13\, Utrecht\, Netherlands
CATEGORIES:Spreekuur
ATTACH;FMTTYPE=image/jpeg:https://www.marijejanssen.nl/wp-content/uploads/2016/11/Marije-Jannsen_Vijgen_eps.jpg
END:VEVENT
BEGIN:VEVENT
DTSTART;TZID=UTC:20180927T190000
DTEND;TZID=UTC:20180927T210000
DTSTAMP:20260425T212549
CREATED:20180615T094443Z
LAST-MODIFIED:20180615T094512Z
UID:1080-1538074800-1538082000@www.marijejanssen.nl
SUMMARY:Inloopspreekuur Seksualiteit bij Savannah Bay
DESCRIPTION:Raak je in de knoop met wat je nou moet doen op het gebied van consent\, schaam je je voor bepaalde aspecten van je seksualiteit en heb je behoefte aan een extern luisterend oor of ben je gewoon op zoek naar toffe queer of feministische porno en je weet niet waar je die kunt vinden? Ik sta je met veel plezier te woord tijdens mijn inloopspreekuur. Je bent meer dan welkom voor een korte coachingsessie\, advies op maat of een kennismaking. Mijn aanpak is open\, nieuwsgierig\, positief en met verstand van zaken. \nElke vierde donderdag van de maand zit ik tijdens het inloopspreekuur seksualiteit in Savannah Bay klaar om al je vragen omtrent seksualiteit te beantwoorden. \nDetails:\n\nDe inloopspreekuren zijn gratis en discreet (de gesprekken worden in een aparte ruimte gevoerd).\nElke 4e donderdag van de maand.\nVan 19u tot 21u.\nEen gesprek duurt maximaal 30 minuten.\nBoekhandel Savannah Bay\, Telingstraat 13 in Utrecht.
URL:https://www.marijejanssen.nl/event/inloopspreekuur-seksualiteit-bij-savannah-bay-2/
LOCATION:Boekhandel Savannah Bay\, Telingstraat 13\, Utrecht\, Netherlands
CATEGORIES:Spreekuur
ATTACH;FMTTYPE=image/jpeg:https://www.marijejanssen.nl/wp-content/uploads/2016/11/Marije-Jannsen_Vijgen_eps.jpg
END:VEVENT
BEGIN:VEVENT
DTSTART;TZID=UTC:20180125T190000
DTEND;TZID=UTC:20180125T210000
DTSTAMP:20260425T212549
CREATED:20170817T083744Z
LAST-MODIFIED:20170817T083744Z
UID:526-1516906800-1516914000@www.marijejanssen.nl
SUMMARY:Inloopspreekuur
DESCRIPTION:Heb je vragen over consent\, loop je vast in je seksualiteit\, wil je meer plezier ervaren of ben je gewoon op zoek naar toffe queer of feministische porno en je weet niet waar je die kan vinden\, Ik sta je met veel plezier te woord tijdens mijn inloopspreekuur. Je bent meer dan welkom voor een korte coachingsessie\, advies op maat of een kennismaking. Open\, nieuwsgierig\, positief en met verstand van zaken. Elke vierde donderdag van de maand zit ik klaar om al je vragen omtrent seksualiteit te beantwoorden. \nDetails:\n\nDe inloopspreekuren zijn gratis en discreet (de gespekken worden in een aparte ruimte gevoerd).\nElke 4e donderdag van de maand.\nVan 19u tot 21u.\nEen gesprek duurt maximaal 30 minuten.\nBoekhandel Savannah Bay\, Telingstraat 13 in Utrecht.
URL:https://www.marijejanssen.nl/event/inloopspreekuur-5/
LOCATION:Boekhandel Savannah Bay\, Telingstraat 13\, Utrecht\, Netherlands
CATEGORIES:Spreekuur
ATTACH;FMTTYPE=image/jpeg:https://www.marijejanssen.nl/wp-content/uploads/2016/11/Marije-Jannsen_-Keuken.jpg
END:VEVENT
BEGIN:VEVENT
DTSTART;TZID=UTC:20171228T190000
DTEND;TZID=UTC:20171228T210000
DTSTAMP:20260425T212549
CREATED:20170817T083453Z
LAST-MODIFIED:20170817T083453Z
UID:524-1514487600-1514494800@www.marijejanssen.nl
SUMMARY:Inloopspreekuur
DESCRIPTION:Heb je vragen over consent\, loop je vast in je seksualiteit\, wil je meer plezier ervaren of ben je gewoon op zoek naar toffe queer of feministische porno en je weet niet waar je die kan vinden\, Ik sta je met veel plezier te woord tijdens mijn inloopspreekuur. Je bent meer dan welkom voor een korte coachingsessie\, advies op maat of een kennismaking. Open\, nieuwsgierig\, positief en met verstand van zaken. Elke vierde donderdag van de maand zit ik klaar om al je vragen omtrent seksualiteit te beantwoorden. \nDetails:\n\nDe inloopspreekuren zijn gratis en discreet (de gespekken worden in een aparte ruimte gevoerd).\nElke 4e donderdag van de maand.\nVan 19u tot 21u.\nEen gesprek duurt maximaal 30 minuten.\nBoekhandel Savannah Bay\, Telingstraat 13 in Utrecht.
URL:https://www.marijejanssen.nl/event/inloopspreekuur-4/
LOCATION:Boekhandel Savannah Bay\, Telingstraat 13\, Utrecht\, Netherlands
CATEGORIES:Spreekuur
ATTACH;FMTTYPE=image/jpeg:https://www.marijejanssen.nl/wp-content/uploads/2016/11/Marije-Jannsen_-Keuken.jpg
END:VEVENT
BEGIN:VEVENT
DTSTART;TZID=UTC:20171123T190000
DTEND;TZID=UTC:20171123T210000
DTSTAMP:20260425T212549
CREATED:20170817T083101Z
LAST-MODIFIED:20170817T083101Z
UID:522-1511463600-1511470800@www.marijejanssen.nl
SUMMARY:Inloopspreekuur
DESCRIPTION:Heb je vragen over consent\, loop je vast in je seksualiteit\, wil je meer plezier ervaren of ben je gewoon op zoek naar toffe queer of feministische porno en je weet niet waar je die kan vinden\, Ik sta je met veel plezier te woord tijdens mijn inloopspreekuur. Je bent meer dan welkom voor een korte coachingsessie\, advies op maat of een kennismaking. Open\, nieuwsgierig\, positief en met verstand van zaken. Elke vierde donderdag van de maand zit ik klaar om al je vragen omtrent seksualiteit te beantwoorden. \nDetails:\n\nDe inloopspreekuren zijn gratis en discreet (de gespekken worden in een aparte ruimte gevoerd).\nElke 4e donderdag van de maand.\nVan 19u tot 21u.\nEen gesprek duurt maximaal 30 minuten.\nBoekhandel Savannah Bay\, Telingstraat 13 in Utrecht.
URL:https://www.marijejanssen.nl/event/inloopspreekuur-3/
LOCATION:Boekhandel Savannah Bay\, Telingstraat 13\, Utrecht\, Netherlands
CATEGORIES:Spreekuur
ATTACH;FMTTYPE=image/jpeg:https://www.marijejanssen.nl/wp-content/uploads/2016/11/Marije-Jannsen_-Keuken.jpg
END:VEVENT
BEGIN:VEVENT
DTSTART;TZID=UTC:20170928T190000
DTEND;TZID=UTC:20170928T210000
DTSTAMP:20260425T212549
CREATED:20170817T082751Z
LAST-MODIFIED:20170817T082751Z
UID:520-1506625200-1506632400@www.marijejanssen.nl
SUMMARY:Inloopspreekuur
DESCRIPTION:Heb je vragen over consent\, loop je vast in je seksualiteit\, wil je meer plezier ervaren of ben je gewoon op zoek naar toffe queer of feministische porno en je weet niet waar je die kan vinden\, Ik sta je met veel plezier te woord tijdens mijn inloopspreekuur. Je bent meer dan welkom voor een korte coachingsessie\, advies op maat of een kennismaking. Open\, nieuwsgierig\, positief en met verstand van zaken. Elke vierde donderdag van de maand zit ik klaar om al je vragen omtrent seksualiteit te beantwoorden. \nDetails:\n\nDe inloopspreekuren zijn gratis en discreet (de gespekken worden in een aparte ruimte gevoerd).\nElke 4e donderdag van de maand.\nVan 19u tot 21u.\nEen gesprek duurt maximaal 30 minuten.\nBoekhandel Savannah Bay\, Telingstraat 13 in Utrecht.
URL:https://www.marijejanssen.nl/event/inloopspreekuur-2/
LOCATION:Boekhandel Savannah Bay\, Telingstraat 13\, Utrecht\, Netherlands
CATEGORIES:Spreekuur
ATTACH;FMTTYPE=image/jpeg:https://www.marijejanssen.nl/wp-content/uploads/2016/11/Marije-Jannsen_-Keuken.jpg
END:VEVENT
BEGIN:VEVENT
DTSTART;TZID=UTC:20170824T190000
DTEND;TZID=UTC:20170824T210000
DTSTAMP:20260425T212549
CREATED:20170817T082532Z
LAST-MODIFIED:20170817T082532Z
UID:518-1503601200-1503608400@www.marijejanssen.nl
SUMMARY:Inloopspreekuur
DESCRIPTION:Heb je vragen over consent\, loop je vast in je seksualiteit\, wil je meer plezier ervaren of ben je gewoon op zoek naar toffe queer of feministische porno en je weet niet waar je die kan vinden\, Ik sta je met veel plezier te woord tijdens mijn inloopspreekuur. Je bent meer dan welkom voor een korte coachingsessie\, advies op maat of een kennismaking. Open\, nieuwsgierig\, positief en met verstand van zaken. Elke vierde donderdag van de maand zit ik klaar om al je vragen omtrent seksualiteit te beantwoorden. \nDetails:\n\nDe inloopspreekuren zijn gratis en discreet (de gespekken worden in een aparte ruimte gevoerd).\nElke 4e donderdag van de maand.\nVan 19u tot 21u.\nEen gesprek duurt maximaal 30 minuten.\nBoekhandel Savannah Bay\, Telingstraat 13 in Utrecht.
URL:https://www.marijejanssen.nl/event/inloopspreekuur/
LOCATION:Boekhandel Savannah Bay\, Telingstraat 13\, Utrecht\, Netherlands
CATEGORIES:Spreekuur
ATTACH;FMTTYPE=image/jpeg:https://www.marijejanssen.nl/wp-content/uploads/2016/11/Marije-Jannsen_-Keuken.jpg
END:VEVENT
END:VCALENDAR